BEGIN:VCALENDAR
VERSION:2.0
PRODID:-//J&auml;gerschaft Heiligenstadt - ECPv6.15.20//NONSGML v1.0//EN
CALSCALE:GREGORIAN
METHOD:PUBLISH
X-WR-CALNAME:J&auml;gerschaft Heiligenstadt
X-ORIGINAL-URL:https://jaegerschaft-heiligenstadt.de
X-WR-CALDESC:Veranstaltungen für J&auml;gerschaft Heiligenstadt
REFRESH-INTERVAL;VALUE=DURATION:PT1H
X-Robots-Tag:noindex
X-PUBLISHED-TTL:PT1H
BEGIN:VTIMEZONE
TZID:UTC
BEGIN:STANDARD
TZOFFSETFROM:+0000
TZOFFSETTO:+0000
TZNAME:UTC
DTSTART:20230101T000000
END:STANDARD
END:VTIMEZONE
BEGIN:VEVENT
DTSTART;TZID=UTC:20241103T170000
DTEND;TZID=UTC:20241103T180000
DTSTAMP:20260421T090514
CREATED:20241026T064137Z
LAST-MODIFIED:20241026T064137Z
UID:114-1730653200-1730656800@jaegerschaft-heiligenstadt.de
SUMMARY:Hubertusmesse 3. November 2024 um 17:00 Uhr
DESCRIPTION:Die Jägerschaft Heiligenstadt lädt zur Hubertusmesse am 3. November 2024 um 17:00 Uhr in die Kirche St. Martin ein. Die musikalische Gestaltung liegt in den Händen der Bläser der Jagdgemeinschaft.\nNach der Veranstaltung gibt es die Möglichkeit für Gespräche bei einem wärmenden Süppchen.
URL:https://jaegerschaft-heiligenstadt.de/event/hubertusmesse-3-november-2024-um-1700-uhr/
LOCATION:St. Martin Kirche\, Heilbad Heiligenstadt
ATTACH;FMTTYPE=image/jpeg:https://jaegerschaft-heiligenstadt.de/wp-content/uploads/2024/10/Hubertusmesse-1.jpg
END:VEVENT
END:VCALENDAR